{
 "currentVersion": 10.81,
 "serviceDescription": "",
 "mapName": "Couches",
 "description": "",
 "copyrightText": "",
 "supportsDynamicLayers": true,
 "layers": [],
 "tables": [],
 "spatialReference": {
  "wkid": 102110,
  "latestWkid": 2154
 },
 "singleFusedMapCache": true,
 "tileInfo": {
  "rows": 256,
  "cols": 256,
  "dpi": 96,
  "format": "JPEG",
  "compressionQuality": 75,
  "origin": {
   "x": 647158,
   "y": 6592868
  },
  "spatialReference": {
   "wkid": 102110,
   "latestWkid": 2154
  },
  "lods": [
   {
    "level": 0,
    "resolution": 39.687579375158755,
    "scale": 150000
   },
   {
    "level": 1,
    "resolution": 19.843789687579378,
    "scale": 75000
   },
   {
    "level": 2,
    "resolution": 9.260435187537043,
    "scale": 35000
   },
   {
    "level": 3,
    "resolution": 3.9687579375158752,
    "scale": 15000
   },
   {
    "level": 4,
    "resolution": 1.9843789687579376,
    "scale": 7500
   },
   {
    "level": 5,
    "resolution": 0.7937515875031751,
    "scale": 3000
   },
   {
    "level": 6,
    "resolution": 0.39687579375158755,
    "scale": 1500
   },
   {
    "level": 7,
    "resolution": 0.19843789687579377,
    "scale": 750
   },
   {
    "level": 8,
    "resolution": 0.10583354500042334,
    "scale": 400
   }
  ]
 },
 "initialExtent": {
  "xmin": 641863.3064968258,
  "ymin": 6568662.500031991,
  "xmax": 686386.6934277373,
  "ymax": 6592587.499942863,
  "spatialReference": {
   "wkid": 102110,
   "latestWkid": 2154
  }
 },
 "fullExtent": {
  "xmin": 646999.8094619005,
  "ymin": 6568341.694170816,
  "xmax": 681250.1904626626,
  "ymax": 6592908.305804038,
  "spatialReference": {
   "wkid": 102110,
   "latestWkid": 2154
  }
 },
 "minScale": 150000,
 "maxScale": 3000,
 "units": "esriMeters",
 "supportedImageFormatTypes": "PNG32,PNG24,PNG,JPG,DIB,TIFF,EMF,PS,PDF,GIF,SVG,SVGZ,BMP",
 "documentInfo": {
  "Title": "",
  "Author": "",
  "Comments": "",
  "Subject": "",
  "Category": "",
  "AntialiasingMode": "None",
  "TextAntialiasingMode": "Force",
  "Keywords": ""
 },
 "capabilities": "Map,Query,Data",
 "supportedQueryFormats": "JSON, geoJSON",
 "exportTilesAllowed": false,
 "referenceScale": 0,
 "supportsDatumTransformation": true,
 "maxRecordCount": 1000,
 "maxImageHeight": 4096,
 "maxImageWidth": 4096,
 "supportedExtensions": "",
 "resampling": false,
 "serviceItemId": "517507edb2c349cdb01c9278def66808"
}
